BEGIN:VCALENDAR
BEGIN:VTIMEZONE
TZID:Asia/Riyadh
X-LIC-LOCATION:Asia/Riyadh
BEGIN:STANDARD
TZOFFSETFROM:+0300
TZOFFSETTO:+0300
TZNAME:+03
DTSTART:19700101T000000
END:STANDARD
END:VTIMEZONE
X-WR-TIMEZONE:Asia/Riyadh
X-WR-CALNAME:Zero-Credit Deadlines (KSA)
VERSION:2.0
PRODID:ics.py - http://git.io/lLljaA
BEGIN:VEVENT
X-MICROSOFT-CDO-REMINDERON:TRUE
X-MICROSOFT-CDO-REMINDERMINUTESBEFORESTART:1440
X-MICROSOFT-CDO-BUSYSTATUS:BUSY
BEGIN:VALARM
ACTION:DISPLAY
DESCRIPTION:
TRIGGER:-P1D
END:VALARM
DTEND:20260426T200100Z
DTSTART:20260426T200000Z
SUMMARY:[Zero] CDR presentation
UID:de7ac84d-5043-4ed4-9f21-bea242f6be79@de7a.org
END:VEVENT
BEGIN:VEVENT
X-MICROSOFT-CDO-REMINDERON:TRUE
X-MICROSOFT-CDO-REMINDERMINUTESBEFORESTART:1440
X-MICROSOFT-CDO-BUSYSTATUS:BUSY
BEGIN:VALARM
ACTION:DISPLAY
DESCRIPTION:
TRIGGER:-P1D
END:VALARM
DTEND:20260428T200100Z
DTSTART:20260428T200000Z
SUMMARY:[Zero] CDR presentation
UID:acccbb5b-1f26-4e29-a477-105ba39c642a@accc.org
END:VEVENT
BEGIN:VEVENT
X-MICROSOFT-CDO-REMINDERON:TRUE
X-MICROSOFT-CDO-REMINDERMINUTESBEFORESTART:1440
X-MICROSOFT-CDO-BUSYSTATUS:BUSY
BEGIN:VALARM
ACTION:DISPLAY
DESCRIPTION:
TRIGGER:-P1D
END:VALARM
DTEND:20260427T200100Z
DTSTART:20260427T200000Z
SUMMARY:[Zero] CDR presentation
UID:e7649b3f-68bd-4a10-9e91-854eee42a5f3@e764.org
END:VEVENT
END:VCALENDAR