BEGIN:VCALENDAR
BEGIN:VTIMEZONE
TZID:Asia/Riyadh
X-LIC-LOCATION:Asia/Riyadh
BEGIN:STANDARD
TZOFFSETFROM:+0300
TZOFFSETTO:+0300
TZNAME:+03
DTSTART:19700101T000000
END:STANDARD
END:VTIMEZONE
X-WR-TIMEZONE:Asia/Riyadh
X-WR-CALNAME:Three-Credit Deadlines (KSA)
VERSION:2.0
PRODID:ics.py - http://git.io/lLljaA
BEGIN:VEVENT
X-MICROSOFT-CDO-REMINDERON:TRUE
X-MICROSOFT-CDO-REMINDERMINUTESBEFORESTART:1440
X-MICROSOFT-CDO-BUSYSTATUS:BUSY
BEGIN:VALARM
ACTION:DISPLAY
DESCRIPTION:
TRIGGER:-P1D
END:VALARM
DTEND:20260427T120100Z
DTSTART:20260427T120000Z
SUMMARY:[Three] Overall Presentation Expectations
UID:bf70f178-d05f-403b-b2c0-f376cb8b9438@bf70.org
END:VEVENT
BEGIN:VEVENT
X-MICROSOFT-CDO-REMINDERON:TRUE
X-MICROSOFT-CDO-REMINDERMINUTESBEFORESTART:1440
X-MICROSOFT-CDO-BUSYSTATUS:BUSY
BEGIN:VALARM
ACTION:DISPLAY
DESCRIPTION:
TRIGGER:-P1D
END:VALARM
DTEND:20260514T200100Z
DTSTART:20260514T200000Z
SUMMARY:[Three] Final Peer Evaluation
UID:96c3fd55-7673-445d-a287-f662e962460c@96c3.org
END:VEVENT
BEGIN:VEVENT
X-MICROSOFT-CDO-REMINDERON:TRUE
X-MICROSOFT-CDO-REMINDERMINUTESBEFORESTART:1440
X-MICROSOFT-CDO-BUSYSTATUS:BUSY
BEGIN:VALARM
ACTION:DISPLAY
DESCRIPTION:
TRIGGER:-P1D
END:VALARM
DTEND:20260430T200100Z
DTSTART:20260430T200000Z
SUMMARY:[Three] Design Notebooks 3
UID:0453038f-35f1-4227-b398-97c54a323338@0453.org
END:VEVENT
BEGIN:VEVENT
X-MICROSOFT-CDO-REMINDERON:TRUE
X-MICROSOFT-CDO-REMINDERMINUTESBEFORESTART:1440
X-MICROSOFT-CDO-BUSYSTATUS:BUSY
BEGIN:VALARM
ACTION:DISPLAY
DESCRIPTION:
TRIGGER:-P1D
END:VALARM
DTEND:20260511T200100Z
DTSTART:20260511T200000Z
SUMMARY:[Three] 1 Minute Video Demo
UID:e0642bae-46ff-442b-b337-92a57fd7e899@e064.org
END:VEVENT
BEGIN:VEVENT
X-MICROSOFT-CDO-REMINDERON:TRUE
X-MICROSOFT-CDO-REMINDERMINUTESBEFORESTART:1440
X-MICROSOFT-CDO-BUSYSTATUS:BUSY
BEGIN:VALARM
ACTION:DISPLAY
DESCRIPTION:
TRIGGER:-P1D
END:VALARM
DTEND:20260511T200100Z
DTSTART:20260511T200000Z
SUMMARY:[Three] Final Report 
UID:8ef86bb1-5c7a-4f2c-af7f-334f0a8fc987@8ef8.org
END:VEVENT
BEGIN:VEVENT
X-MICROSOFT-CDO-REMINDERON:TRUE
X-MICROSOFT-CDO-REMINDERMINUTESBEFORESTART:1440
X-MICROSOFT-CDO-BUSYSTATUS:BUSY
BEGIN:VALARM
ACTION:DISPLAY
DESCRIPTION:
TRIGGER:-P1D
END:VALARM
DTEND:20260426T120100Z
DTSTART:20260426T120000Z
SUMMARY:[Three] Overall Presentation Expectations
UID:40edb532-da63-4c8c-be16-2823d01df179@40ed.org
END:VEVENT
BEGIN:VEVENT
X-MICROSOFT-CDO-REMINDERON:TRUE
X-MICROSOFT-CDO-REMINDERMINUTESBEFORESTART:1440
X-MICROSOFT-CDO-BUSYSTATUS:BUSY
BEGIN:VALARM
ACTION:DISPLAY
DESCRIPTION:
TRIGGER:-P1D
END:VALARM
DTEND:20260509T200100Z
DTSTART:20260509T200000Z
SUMMARY:[Three] Senior Design Expo
UID:dacf47e5-9e3d-4c3b-b800-23cbb7529d79@dacf.org
END:VEVENT
END:VCALENDAR